BEGIN:VCALENDAR
VERSION:2.0
PRODID:-//Museum for Art in Wood - ECPv6.1.3//NONSGML v1.0//EN
CALSCALE:GREGORIAN
METHOD:PUBLISH
X-WR-CALNAME:Museum for Art in Wood
X-ORIGINAL-URL:https://museumforartinwood.org
X-WR-CALDESC:Events for Museum for Art in Wood
REFRESH-INTERVAL;VALUE=DURATION:PT1H
X-Robots-Tag:noindex
X-PUBLISHED-TTL:PT1H
BEGIN:VTIMEZONE
TZID:America/New_York
BEGIN:DAYLIGHT
TZOFFSETFROM:-0500
TZOFFSETTO:-0400
TZNAME:EDT
DTSTART:20210314T070000
END:DAYLIGHT
BEGIN:STANDARD
TZOFFSETFROM:-0400
TZOFFSETTO:-0500
TZNAME:EST
DTSTART:20211107T060000
END:STANDARD
END:VTIMEZONE
BEGIN:VEVENT
DTSTART;TZID=America/New_York:20210914T183000
DTEND;TZID=America/New_York:20210914T193000
DTSTAMP:20260421T095834
CREATED:20210826T174252Z
LAST-MODIFIED:20210910T190733Z
UID:10001580-1631644200-1631647800@museumforartinwood.org
SUMMARY:Exhibition Tour - Jack Larimore: Sculpture
DESCRIPTION:Exhibition Tour – Jack Larimore: Sculpture | Tues. September 14\, 2021 | 6:30 pm EDT | Atelier Gallery 1301 N. 31st Street\, Suite 2\, Philadelphia | In-Person Event Vaccination and Masks Required\nClick HERE to RSVP \nJoin us for a special tour of sculptor Jack Larimore’s solo exhibition of new works at Atelier Gallery on Tuesday\, September 14th at 6:30 pm EDT. Sculpture artist\, furniture maker\, and landscape architect Jack Larimore has been making three-dimensional work in various media for 35 years. His upcoming exhibition\, Jack Larimore: Sculpture\, will spotlight recent large-scale installations by the artist. The exhibition will be on view at Atelier Gallery\, located in the Brewerytown section of Philadelphia\, September 10 — October 16\, 2021. \n\n\n\nThe new work presented in Sculpture explores dualism and the artist’s exploration into the relentless conflict between head and heart. Much of the work in this recent series reveals Larimore’s embrace of mystery and his belief that the unanswered is more provocative than the answered. Deeply immersed in nature\, Larimore is drawn to the wonder of the natural world\, unencumbered by science and human constructs. \nThis is an in-person event at Atelier Gallery. Masks and vaccination are required to enter. Space is limited. \n\n\n\nThis event is free to the public. The Center for Art in Wood interprets\, nurtures\, and champions creative engagement and expansion of art\, craft\, and design in wood to enhance the public’s understanding and appreciation of it. A suggested donation of $5 per person enables us to provide programs and exhibitions throughout the year. \nDonate \nFor questions\, contact Katie Sorenson\, Senior Manager of Partnerships and Engagement\, at katie@museumforartinwood.org \nImage: Jack Larimore\, Trial\, 2019\, cedar and steel
URL:https://museumforartinwood.org/event/exhibition-tour-jack-larimore-sculpture/
LOCATION:Atelier Gallery\, 1301 N 31st Street\, Suite 2\, Philadelphia\, PA\, 19121\, United States
CATEGORIES:Gallery Talks
ATTACH;FMTTYPE=image/jpeg:https://museumforartinwood.org/wp-content/uploads/2021/08/thumbnail_Trial.jpeg
ORGANIZER;CN="The%20Center%20for%20Art%20in%20Wood":MAILTO:info@museumforartinwood.org
END:VEVENT
END:VCALENDAR