BEGIN:VCALENDAR
VERSION:2.0
PRODID:-//Museum for Art in Wood - ECPv6.1.3//NONSGML v1.0//EN
CALSCALE:GREGORIAN
METHOD:PUBLISH
X-WR-CALNAME:Museum for Art in Wood
X-ORIGINAL-URL:https://museumforartinwood.org
X-WR-CALDESC:Events for Museum for Art in Wood
REFRESH-INTERVAL;VALUE=DURATION:PT1H
X-Robots-Tag:noindex
X-PUBLISHED-TTL:PT1H
BEGIN:VTIMEZONE
TZID:America/New_York
BEGIN:DAYLIGHT
TZOFFSETFROM:-0500
TZOFFSETTO:-0400
TZNAME:EDT
DTSTART:20250309T070000
END:DAYLIGHT
BEGIN:STANDARD
TZOFFSETFROM:-0400
TZOFFSETTO:-0500
TZNAME:EST
DTSTART:20251102T060000
END:STANDARD
END:VTIMEZONE
BEGIN:VEVENT
DTSTART;TZID=America/New_York:20251112T180000
DTEND;TZID=America/New_York:20251112T180000
DTSTAMP:20260421T060033
CREATED:20251014T200935Z
LAST-MODIFIED:20251014T202841Z
UID:10002063-1762970400-1762970400@museumforartinwood.org
SUMMARY:Innovative Flax Fiber Components
DESCRIPTION:Innovative Flax Fiber Components | Wed. Nov. 12\, 2025 | 6:00 – 8:00 pm ET | In-person\nClick HERE for Tickets \n\nThe Promising Future of Flax for Clothing & Construction Materials in the Mid-Atlantic: Creating a Stronger\, More Sustainable Society\n\n\n\nThe Museum for Art in Wood is hosting the PA Flax Project (Philadelphia\, PA) and Common Object Studio (Baltimore\, MD). This dynamic group will come together to discuss the many industrial uses of flax fiber\, scaling production in the mid-Atlantic\, and flax as an alternative to toxic building materials and textiles. There will be an array of samples from linseed oil to linen for participants to handle and learn about. \nThis interactive event is an exciting peek into the progress of the fiber flax industry in our region. We welcome interior designers\, architects\, textile industry professionals\, artists\, building contractors\, sustainable developers\, and community members passionate about real change towards a sustainable future. \n\n\n			\n				\n				\n				\n				\n				About Common Object Studio: \n \nWe Are Fernando Ramirez & Justin Beitzel \nCo-founders\, designers\, and explorers of Common Object Studio. At our core\, we are industrial designers\, but our diverse backgrounds in environmental design (Fernando) and engineering (Justin) drive us to think beyond the traditional process. \nWe are passionate about helping companies take steps toward sustainable solutions that consider both people and the planet\, all while injecting fun along the way. \n			\n				\n				\n				\n				\n				About PA Flax Project: \n\n\n\n\n\nPA Flax Project is organizing farmers\, creating infrastructure for processing\, and making American linen possible again.\n\n\n\n\n\n\n\n\nFiber Flax is a resilient plant that requires little to no chemical inputs or irrigation\, fits well into grain rotations\, remediates soil\, and has a proven history of growing well in Pennsylvania. Flax’s most valuable use is for linen production. Demand for linen grows as consumers turn away from synthetics and demand natural fibers. Flax can also be used in dozens of other products\, making it a versatile and high-value crop. Flax has the potential to provide new revenue streams for hundreds of farmers in Pennsylvania alone. \n\n\n\n\nBut in order to become linen and other products\, flax must be processed. There used to be a significant textile industry in PA\, but the equipment and infrastructure are long gone. The United States has ample space for growing flax\, but we lack the infrastructure for processing. PA Flax is well on the way to achieving our goal of putting 4\,000 acres annually of fiber flax into production in Pennsylvania and establishing the first cooperatively owned scutching mill in North America by 2028.
URL:https://museumforartinwood.org/event/innovative-flax-fiber-components/
LOCATION:Museum for Art in Wood\, 141 N 3rd Street\, Philadelphia\, PA\, 19106\, United States
ATTACH;FMTTYPE=image/png:https://museumforartinwood.org/wp-content/uploads/2025/10/Innovative-Flax-Fiber-Components-Eventbrite-Header.png
END:VEVENT
END:VCALENDAR