BEGIN:VCALENDAR
VERSION:2.0
PRODID:-//Museum for Art in Wood - ECPv6.1.3//NONSGML v1.0//EN
CALSCALE:GREGORIAN
METHOD:PUBLISH
X-ORIGINAL-URL:https://museumforartinwood.org
X-WR-CALDESC:Events for Museum for Art in Wood
REFRESH-INTERVAL;VALUE=DURATION:PT1H
X-Robots-Tag:noindex
X-PUBLISHED-TTL:PT1H
BEGIN:VTIMEZONE
TZID:America/New_York
BEGIN:DAYLIGHT
TZOFFSETFROM:-0500
TZOFFSETTO:-0400
TZNAME:EDT
DTSTART:20190310T070000
END:DAYLIGHT
BEGIN:STANDARD
TZOFFSETFROM:-0400
TZOFFSETTO:-0500
TZNAME:EST
DTSTART:20191103T060000
END:STANDARD
END:VTIMEZONE
BEGIN:VEVENT
DTSTART;TZID=America/New_York:20190306T180000
DTEND;TZID=America/New_York:20190306T200000
DTSTAMP:20260422T221653
CREATED:20190109T191828Z
LAST-MODIFIED:20190218T221734Z
UID:10001410-1551895200-1551902400@museumforartinwood.org
SUMMARY:Young Artist Speaker Series
DESCRIPTION:Young Artist Speaker Series | Artist Colin Pezzano | Wed\, March 6\, 2019 | 6 – 8 pm | The Center for Art in Wood\nThe Center for Art in Wood is proud to present the Young Artist Speaker Series. Each semester a young artist is asked to share their work and speak about the transition from academia to an independent artist. The first in the series will feature artist Colin Pezzano taking place on Wednesday\, March 6\, 2019\, from 6 – 8 pm. \nColin Pezzano is a woodworker based out of Philadelphia\, PA.  Pezzano projects his unique sensibility onto the possibilities of furniture and uses this to offset the domestic environment with pathos and humor. His work is an honest self-searching\, channeling childhood experience and memory to bring beauty to the mundane\, shaping into an object the awkward fumbling form of youth and naivety. The result is something truly unique\, and surprisingly moving; considering the stark\, often minimal approach he takes in design. In these pieces\, in his take on everyday objects\, Pezzano strives to convey a long-lost sense of awe and wonder\,  a chance for a moment to regain a bit of our inner child\, our absent innocence.   He pushes himself in self-discovery\, and in that finds a piece of himself; a piece of all of us. \nColin graduated from University of The Arts in 2014. Upon graduation\, he received the Windgate Fellowship.  After Graduation\, Pezzano was featured in Craft Forms (2014) and was interviewed in an article with American Craft. In the Spring of 2015\, Pezzano had his first Solo show “Contain You”  at Bridgette Mayer Gallery. Since then\, Pezzano has appeared in several shows and galleries including The Smithsonian Craft Show (2016). Following the Smithsonian Craft show\, Colin was inspired to develop a small production line of furniture and objects\, collaborating with other craft artists. In 2018\, Colin had his second Solo show “Still Life with Dead Game”. Pezzano maintains his practice in Philadelphia out of his basement studio and currently is working at the University of Pennsylvania. \nThis event is free to the public. The Center for Art in Wood is a nonprofit arts organization. A suggested donation of $5 per person enables us to provide programs and exhibitions throughout the year. \nFor question please contact Community Engagement Manager Katie Sorenson at katie@museumforartinwood.org.
URL:https://museumforartinwood.org/event/young-artist-speaker-series/
LOCATION:The Center for Art in Wood\, 141 N 3rd Street\, Philadelphia\, PA\, 19106\, United States
CATEGORIES:Gallery Talks,Special Events
ORGANIZER;CN="The%20Center%20for%20Art%20in%20Wood":MAILTO:info@museumforartinwood.org
GEO:39.9533152;-75.1447709
X-APPLE-STRUCTURED-LOCATION;VALUE=URI;X-ADDRESS=The Center for Art in Wood 141 N 3rd Street Philadelphia PA 19106 United States;X-APPLE-RADIUS=500;X-TITLE=141 N 3rd Street:geo:-75.1447709,39.9533152
END:VEVENT
END:VCALENDAR