BEGIN:VCALENDAR
VERSION:2.0
PRODID:-//Museum for Art in Wood - ECPv6.1.3//NONSGML v1.0//EN
CALSCALE:GREGORIAN
METHOD:PUBLISH
X-ORIGINAL-URL:https://museumforartinwood.org
X-WR-CALDESC:Events for Museum for Art in Wood
REFRESH-INTERVAL;VALUE=DURATION:PT1H
X-Robots-Tag:noindex
X-PUBLISHED-TTL:PT1H
BEGIN:VTIMEZONE
TZID:America/New_York
BEGIN:DAYLIGHT
TZOFFSETFROM:-0500
TZOFFSETTO:-0400
TZNAME:EDT
DTSTART:20170312T070000
END:DAYLIGHT
BEGIN:STANDARD
TZOFFSETFROM:-0400
TZOFFSETTO:-0500
TZNAME:EST
DTSTART:20171105T060000
END:STANDARD
BEGIN:DAYLIGHT
TZOFFSETFROM:-0500
TZOFFSETTO:-0400
TZNAME:EDT
DTSTART:20180311T070000
END:DAYLIGHT
BEGIN:STANDARD
TZOFFSETFROM:-0400
TZOFFSETTO:-0500
TZNAME:EST
DTSTART:20181104T060000
END:STANDARD
BEGIN:DAYLIGHT
TZOFFSETFROM:-0500
TZOFFSETTO:-0400
TZNAME:EDT
DTSTART:20190310T070000
END:DAYLIGHT
BEGIN:STANDARD
TZOFFSETFROM:-0400
TZOFFSETTO:-0500
TZNAME:EST
DTSTART:20191103T060000
END:STANDARD
END:VTIMEZONE
BEGIN:VEVENT
DTSTART;TZID=America/New_York:20171111T180000
DTEND;TZID=America/New_York:20171111T220000
DTSTAMP:20260422T174323
CREATED:20170720T191905Z
LAST-MODIFIED:20171121T195137Z
UID:10001361-1510423200-1510437600@museumforartinwood.org
SUMMARY:2017 Annual Founders' Fundraiser
DESCRIPTION:2017 Annual Founders’ Fundraiser | Sat\, Nov. 11\, 2017 |\nReception at the Center | 141 N 3rd Street | 6 – 8 PM |\nAfter Party at The Arden’s Hamilton Family Arts Center | 62 N 2nd Street |\n8 – 10 pm |\nThe Center for Art in Wood continues the tradition of our Annual Founders’ Fundraiser on Saturday\, November 11\, 2017 with a reception at the Center from 6 PM – 8 PM and an after party at the Arden Theatre Company: Hamilton Family Arts Center located two blocks away at 62 N. 2nd Street\, from 8 PM – 10 PM. \nThis year\, we will be honoring John and Robyn Horn\, whose ongoing philanthropy has facilitated arts and culture programs and initiatives at the Center\, as well as numerous other arts and educational institutions around the US. The evening includes the awarding of the 2nd Annual Bob Stocksdale International Excellence in Wood Award to Dean Pulver.  \nBecome a supporter by reserving your tickets to the event now. Contributors who reserve sponsorship by September 9th will have their name or organization included on the printed invitation. \nBelow\, please see the levels of support. Click on your choice to be taken to checkout. \nFor a full list of Annual Founders’ supporters and artist supporters click HERE. \n\nVIP viewing: 5-6PM EXCLUSIVE! For all sponsors at the $500+ level\nTours of the CRISS CROSS and The Selected Works of Dean Pulver exhibitions\, lead by artists Robyn Horn\, Brian Dickerson\, curator Miriam Seidel and artist Dean Pulver\, and a tour of the Center’s Museum Collection\, lead by Co-founder and Executive Director Albert LeCoff. \nReception: 6 – 8 PM\nLight hors d’oeuvres\, Beer\, Wine\, Honoring the Horns & presentaion of the Stocksdale Award\nThe Center for Art in Wood\n141 N. 3rd Street\nPhiladelphia\, PA 19106 \nAfter Party: 8 – 10 PM\nSilent Auction\, Music\, Dancing\, Food Stations\, Beer & Wine\nThe Arden Theatre Company: Hamilton Family Arts Center\n62 N. 2nd Street\nPhiladelphia\, PA 19106 \n\nSponsorship Packages \nFounder’s Circle $5\,000 and up\nFull page tribute ad in our program book\nRecognition on our website\nName listing on event signage\n6 tickets to the VIP viewing from 5-6PM\, reception and after party\n6 Sponsored tickets for PMA Craft Show artists to the reception \nPresident’s Circle $1\,000 to $4\,999\nFull page tribute ad in our program book\nRecognition on our website\nName listing on event signage\n4 tickets to the VIP viewing from 5-6PM\, reception and after party\n2 Sponsored tickets for PMA Craft Show artists to the reception \nDirector’s Circle $500 to $999\nHalf-page tribute ad in our program book\nRecognition on our website\nName listing on event signage\n2 tickets to the VIP viewing from 5-6PM\, reception and after party \n\n  \nTICKETS \nReception & After Party-CLOSED\n$125.00 \nAfter Party Only-CLOSED\n$75.00 \nReception Only-CLOSED\n$50.00 \nSingle Raffle Ticket-ONLINE SALES CLOSED\n$10.00 \nThree Raffle Tickets-ONLINE SALES CLOSED\n$25.00 \nFor more information or for questions\, please contact Katie Sorenson\, Development & Events Manager at 215.923.800 or katie@museumforartinwood.org. \n 
URL:https://museumforartinwood.org/event/2017-annual-founders-fundraiser/
LOCATION:The Center for Art in Wood\, 141 N 3rd Street\, Philadelphia\, PA\, 19106\, United States
CATEGORIES:Annual Founders’ Fundraisers,Special Events,The Bob Stocksdale International Excellence in Wood Award
ATTACH;FMTTYPE=image/png:https://museumforartinwood.org/wp-content/uploads/2017/07/2017_07_20_11_28_57_10_The_Center_for_Art_in_Wood_Home.png
ORGANIZER;CN="The%20Center%20for%20Art%20in%20Wood":MAILTO:info@museumforartinwood.org
GEO:39.9533152;-75.1447709
X-APPLE-STRUCTURED-LOCATION;VALUE=URI;X-ADDRESS=The Center for Art in Wood 141 N 3rd Street Philadelphia PA 19106 United States;X-APPLE-RADIUS=500;X-TITLE=141 N 3rd Street:geo:-75.1447709,39.9533152
END:VEVENT
BEGIN:VEVENT
DTSTART;TZID=America/New_York:20181005T170000
DTEND;TZID=America/New_York:20181005T200000
DTSTAMP:20260422T174323
CREATED:20180926T195009Z
LAST-MODIFIED:20180926T195009Z
UID:10001402-1538758800-1538769600@museumforartinwood.org
SUMMARY:DesignPhiladelphia Open House at The Center for Art in Wood
DESCRIPTION:DesignPhiladelphia Open House | The Center for Art in Wood | Fri. Oct 5\, 2018 | 5 – 8 pm\nJoin us for a DesignPhiladelphia Open House at The Center on October 5th during First Friday in Old City. Catch our Museum Collection speaker series\, Object Lesson a First Friday featuring writer and curator Sarah Archer. Walk through our gallery and experience the current exhibition allTURNatives: Form + Spirit 2018 showcasing the work of our Windgate ITE International Residency Fellows. \nTo learn more about DesignPhiladelphia and their events around town click HERE.
URL:https://museumforartinwood.org/event/designphiladelphia-open-house-at-the-center-for-art-in-wood/
LOCATION:The Center for Art in Wood\, 141 N 3rd Street\, Philadelphia\, PA\, 19106\, United States
CATEGORIES:Exhibitions,Gallery Talks,Museum Collection,Special Events
ORGANIZER;CN="The%20Center%20for%20Art%20in%20Wood":MAILTO:info@museumforartinwood.org
GEO:39.9533152;-75.1447709
X-APPLE-STRUCTURED-LOCATION;VALUE=URI;X-ADDRESS=The Center for Art in Wood 141 N 3rd Street Philadelphia PA 19106 United States;X-APPLE-RADIUS=500;X-TITLE=141 N 3rd Street:geo:-75.1447709,39.9533152
END:VEVENT
BEGIN:VEVENT
DTSTART;TZID=America/New_York:20181007T110000
DTEND;TZID=America/New_York:20181007T180000
DTSTAMP:20260422T174323
CREATED:20180926T190445Z
LAST-MODIFIED:20180926T200713Z
UID:10001401-1538910000-1538935200@museumforartinwood.org
SUMMARY:Old City Fest
DESCRIPTION:Old City Fest | The Center for Art in Wood | Sun. Oct 7\, 2018 | 11 am – 6 pm\nOld City Fest is a celebration of art and design\, fashion and food\, creativity and culture on the streets of America’s most historic square mile— Old City\, Philadelphia. Visit the Center that day for LIVE woodturning in front of our wood doors\, demo’s by local artists\, paper crafts with artist Jessica Eldredge\, hands-on crafting table for all ages and a door prize. CraftNOW will join us that day giving a sneak peek for Craft Month. Don’t miss this fun-filled festival!
URL:https://museumforartinwood.org/event/old-city-fest-3/
LOCATION:The Center for Art in Wood\, 141 N 3rd Street\, Philadelphia\, PA\, 19106\, United States
CATEGORIES:Special Events
ATTACH;FMTTYPE=image/jpeg:https://museumforartinwood.org/wp-content/uploads/2018/09/Turning-hands.jpg
ORGANIZER;CN="The%20Center%20for%20Art%20in%20Wood":MAILTO:info@museumforartinwood.org
GEO:39.9533152;-75.1447709
X-APPLE-STRUCTURED-LOCATION;VALUE=URI;X-ADDRESS=The Center for Art in Wood 141 N 3rd Street Philadelphia PA 19106 United States;X-APPLE-RADIUS=500;X-TITLE=141 N 3rd Street:geo:-75.1447709,39.9533152
END:VEVENT
BEGIN:VEVENT
DTSTART;TZID=America/New_York:20190208T180000
DTEND;TZID=America/New_York:20190208T200000
DTSTAMP:20260422T174323
CREATED:20190116T145505Z
LAST-MODIFIED:20190116T145505Z
UID:10001411-1549648800-1549656000@museumforartinwood.org
SUMMARY:Wood Valentine Card Workshop
DESCRIPTION:Wood Valentine Card Workshop | Artist Jessica Eldredge | The Center for Art in Wood | Fri\, Feb 8 2019 | 6 – 8 pm \nCost: $25 Members  | $35 Non-Members\nSave on this and future workshops by becoming a member. \nJoin us for an evening creating unique balsa wood Valentine Cards! Artist Jessica Eldredge will lead a workshop exploring the possibilities of color and design to express your love to someone special by creating small works of art. Enjoy light refreshments\, wine\, and music while you craft your heart out. Space is limited so register today. \nJessica Eldredge is an artist in Old City who creates paintings and collages using her unique hand-dyed paper inspired by colors and patterns found in textiles and other decorative arts.  An experienced teaching artist\, she loves working with people of all ages and sharing her love of creating. \nFor questions contact Katie Sorenson\, Community Engagement Manager at katie@museumforartinwood.org or 215-923-8000 ext 103. \nCancelation Policy\nCancelations of a workshop must be made by email.  The Center can offer a full refund if notice is given 15 days prior to the workshop. Refunds will not be given after that date. \nThe Center for Art in Wood reserves the right to cancel a workshop due to severe weather or unforeseen circumstances. Participants will be notified in advance and offered a full refund.
URL:https://museumforartinwood.org/event/wood-valentine-card-workshop/
LOCATION:The Center for Art in Wood\, 141 N 3rd Street\, Philadelphia\, PA\, 19106\, United States
CATEGORIES:Special Events,Workshops
ATTACH;FMTTYPE=image/jpeg:https://museumforartinwood.org/wp-content/uploads/2019/01/Valentine-Image.jpg
ORGANIZER;CN="The%20Center%20for%20Art%20in%20Wood":MAILTO:info@museumforartinwood.org
GEO:39.9533152;-75.1447709
X-APPLE-STRUCTURED-LOCATION;VALUE=URI;X-ADDRESS=The Center for Art in Wood 141 N 3rd Street Philadelphia PA 19106 United States;X-APPLE-RADIUS=500;X-TITLE=141 N 3rd Street:geo:-75.1447709,39.9533152
END:VEVENT
BEGIN:VEVENT
DTSTART;TZID=America/New_York:20190215T180000
DTEND;TZID=America/New_York:20190215T200000
DTSTAMP:20260422T174323
CREATED:20190129T205634Z
LAST-MODIFIED:20190129T205634Z
UID:10001437-1550253600-1550260800@museumforartinwood.org
SUMMARY:Date Night at The Center for Art in Wood
DESCRIPTION:Date Night at The Center for Art in Wood | Fri\, Feb 15\, 2019 | 6 – 8 pm\nCost: $10 Members click HERE  | $15 Non-Members click HERE\nSave on this and future workshops by becoming a member. \nJoin us for a fun Date Night with one or all your favorite people! The evening will start with a tour of our current exhibition\, Pennsylvania Made followed by a crafting table for exploring color and design. Enjoy light refreshments\, wine\, and music while you craft your heart out. Space is limited so register today. \n  \nFor questions please contact Community Engagement Manager\, Katie Sorenson at katie@museumforartinwood.org.
URL:https://museumforartinwood.org/event/date-night-at-the-center-for-art-in-wood/
LOCATION:The Center for Art in Wood\, 141 N 3rd Street\, Philadelphia\, PA\, 19106\, United States
CATEGORIES:Special Events
ATTACH;FMTTYPE=image/png:https://museumforartinwood.org/wp-content/uploads/2019/01/Date-Night-Fri-Feb-15th-2.png
ORGANIZER;CN="The%20Center%20for%20Art%20in%20Wood":MAILTO:info@museumforartinwood.org
GEO:39.9533152;-75.1447709
X-APPLE-STRUCTURED-LOCATION;VALUE=URI;X-ADDRESS=The Center for Art in Wood 141 N 3rd Street Philadelphia PA 19106 United States;X-APPLE-RADIUS=500;X-TITLE=141 N 3rd Street:geo:-75.1447709,39.9533152
END:VEVENT
BEGIN:VEVENT
DTSTART;TZID=America/New_York:20190413T100000
DTEND;TZID=America/New_York:20190413T160000
DTSTAMP:20260422T174323
CREATED:20190226T160035Z
LAST-MODIFIED:20190401T172207Z
UID:10001440-1555149600-1555171200@museumforartinwood.org
SUMMARY:Chip Carving Patterns with Keunho Peter Park
DESCRIPTION:Chip Carving Patterns Workshop | Keunho Peter Park | Sat. April 13\, 2019 | 10 am – 4 pm | The Center for Art in Wood\nCost: $125 Members click HERE | $150 Non-Members click HERE\nSave on this and future workshops by becoming a member. \nJoin us for a one-day workshop learning the art of chip carving with artist Keunho Peter Park. This is a traditional technique for creating decorative patterns on wooden surfaces and Park will guide you in chip carving using just a few simple hand tools. Participants will receive two carving knives\, and a wooden 4×6” photo frame to embellish with their chip carving pattern. \nKeunho Peter Park is an international artist\, woodworker\, and instrument maker who teaches at the University of the Arts in Philadelphia. He holds a B.F.A in painting from South Korea’s Kookmin University and an M.F.A. in Woodworking and Furniture Design from the Rochester Institute of Technology. Park is also the recipient of the Philadelphia Museum of Art Craft Show’s Wharton Esherick award and the Windgate resident artist at Indiana University of Pennsylvania. \nThe Center for Art in Wood is a non-profit arts organization located in Philadelphia that nurtures and promotes the innovation of art in wood through collaborative residencies\, exhibitions\, education\, and documentation.  The Center also maintains an inspirational collection and a research library to enhance the understanding and appreciation of the art. \nAll materials are included in the cost of the workshop. \nCancelation Policy\nCancelations of a workshop must be made by email. The Center will offer a full refund if notice is given at least 30 days before the workshop. Refunds will not be given after that date. \nThe Center for Art in Wood reserves the right to cancel a workshop due to severe weather or unforeseen circumstances. Participants will be notified in advance and offered a full refund. \nFor questions contact Katie Sorenson\, Community Engagement Manager at katie@museumforartinwood.org or 215-923-8000 ext 103.
URL:https://museumforartinwood.org/event/chip-carving-patterns-with-keunho-peter-park/
LOCATION:The Center for Art in Wood\, 141 N 3rd Street\, Philadelphia\, PA\, 19106\, United States
CATEGORIES:Workshops
ORGANIZER;CN="The%20Center%20for%20Art%20in%20Wood":MAILTO:info@museumforartinwood.org
GEO:39.9533152;-75.1447709
X-APPLE-STRUCTURED-LOCATION;VALUE=URI;X-ADDRESS=The Center for Art in Wood 141 N 3rd Street Philadelphia PA 19106 United States;X-APPLE-RADIUS=500;X-TITLE=141 N 3rd Street:geo:-75.1447709,39.9533152
END:VEVENT
END:VCALENDAR