BEGIN:VCALENDAR
VERSION:2.0
PRODID:-//Museum for Art in Wood - ECPv6.1.3//NONSGML v1.0//EN
CALSCALE:GREGORIAN
METHOD:PUBLISH
X-ORIGINAL-URL:https://museumforartinwood.org
X-WR-CALDESC:Events for Museum for Art in Wood
REFRESH-INTERVAL;VALUE=DURATION:PT1H
X-Robots-Tag:noindex
X-PUBLISHED-TTL:PT1H
BEGIN:VTIMEZONE
TZID:America/New_York
BEGIN:DAYLIGHT
TZOFFSETFROM:-0500
TZOFFSETTO:-0400
TZNAME:EDT
DTSTART:20170312T070000
END:DAYLIGHT
BEGIN:STANDARD
TZOFFSETFROM:-0400
TZOFFSETTO:-0500
TZNAME:EST
DTSTART:20171105T060000
END:STANDARD
END:VTIMEZONE
BEGIN:VEVENT
DTSTART;TZID=America/New_York:20171006T180000
DTEND;TZID=America/New_York:20171006T200000
DTSTAMP:20260422T155051
CREATED:20170905T202806Z
LAST-MODIFIED:20170905T203357Z
UID:10001364-1507312800-1507320000@museumforartinwood.org
SUMMARY:Evergreen Society Reception
DESCRIPTION:Evergreen Society Reception | First Friday\, Oct 6\, 2017 | 6 – 8PM | RSVP Sept 25th\nJoin us for the first Annual Evergreen Society Reception on First Friday Oct. 6th from 6 – 8pm. Enjoy food and refreshments served in the Fleur & Charles Bresler Research Library and a private tour of the Center’s Museum Collection conducted by Co-Founder and Executive Director\, Albert LeCoff. \nWhat is the Evergreen Society? You may already be an Evergreen Society member. The Evergreen Society is the Center’s legacy group and consists of donors who have included The Center for Art in Wood in their estate plans/planned giving. There is no minimum amount and no required method. If the Center has been named as a beneficiary in your plan\, you are a member. With permission\, a list of Evergreen Society members will be listed on our website and as part of our donor lists. \nEach year\, starting with this event\, we will recognize your support with a special reception and preview upcoming plans for exhibitions and other programming. \nPlanned Giving: What are the benefits?\n – Depending on the planned gift\, you can receive income and capital gains tax relief\n– Enables you to make a substantial gift to an organization you care deeply about without affecting                              your annual income\n– You may direct the funds towards the program/part of the Center’s mission you find most                                              compelling or designate it as general operating support. \nRegistration Required: Please RSVP by September 25th by emailing Fred Kaplan-Mayer\, Director of Operations at fred@museumforartinwood.org or by calling 215-923-800. \n\nTo learn more or become an Evergreen Society member\, click HERE. \n 
URL:https://museumforartinwood.org/event/evergreen-society-reception/
LOCATION:The Center for Art in Wood\, 141 N 3rd Street\, Philadelphia\, PA\, 19106\, United States
CATEGORIES:Planned Giving: Evergreen Society,Special Events
ATTACH;FMTTYPE=image/jpeg:https://museumforartinwood.org/wp-content/uploads/2017/09/Post-Card-image-2017.jpg
ORGANIZER;CN="The%20Center%20for%20Art%20in%20Wood":MAILTO:info@museumforartinwood.org
GEO:39.9533152;-75.1447709
X-APPLE-STRUCTURED-LOCATION;VALUE=URI;X-ADDRESS=The Center for Art in Wood 141 N 3rd Street Philadelphia PA 19106 United States;X-APPLE-RADIUS=500;X-TITLE=141 N 3rd Street:geo:-75.1447709,39.9533152
END:VEVENT
END:VCALENDAR